Workbook

Sheet 申込書
B1: 川越市議会事務局 行 （メールアドレス giji@city.kawagoe.lg.jp ） ※Excel形式のまま送付ください。
A3: 行政視察申込書
B5: ※着色部分を記入・選択してください。 | AY5: 申込日 | BE5: 令和 | BM5: 年 | BS5: 月 | BY5: 日
B6: 都道府県 | AL6: 市区町村 | BV6: 議会 | CA6: FALSE | CB6: FALSE | CC6: FALSE | CD6: FALSE
B7: 委員会名 会派名 | CA7: FALSE | CB7: FALSE | CC7: FALSE
B8: 人数 | L8: =SUM(AV8+AJ8+W8) -> 0 | P8: 名 | S8: （議員 | AA8: 名 | AD8: 随行職員 | AN8: 名 | AQ8: 執行部 | AZ8: 名） | BF8: 議長含む | BP8: 副議長含む
B9: 連絡先 | L9: 所属 | AN9: 職名 | AZ9: 氏名
L10: 電話 | AF10: 直通 | AN10: 内線 | AR10: （ | AY10: ） | AZ10: メール | CA10: FALSE | CB10: FALSE
B11: 日時 | L11: 〔第1希望〕 | T11: 令和 | AB11: 年 | AH11: 月 | AN11: 日 | AP11: （ | AU11: ） | BA11: 時 | BG11: 分 | BI11: ～ | BO11: 時 | BU11: 分
L12: 〔第2希望〕 | T12: 令和 | AB12: 年 | AH12: 月 | AN12: 日 | AP12: （ | AU12: ） | BA12: 時 | BG12: 分 | BI12: ～ | BO12: 時 | BU12: 分
L13: 〔第3希望〕 | T13: 令和 | AB13: 年 | AH13: 月 | AN13: 日 | AP13: （ | AU13: ） | BA13: 時 | BG13: 分 | BI13: ～ | BO13: 時 | BU13: 分
B14: 視察事項 | L14: 視察項目
L15: 具体的な視察内容 | Z15: （詳細が決定していない場合は「未定」とご記入ください）
B17: 交通手段 食事・宿泊 | L17: 主な交通手段 | AN17: その他記入欄 | AY17: ( | BZ17: )
L18: 市内での食事 | AN18: 市内での宿泊
B19: 備考
B22: ※申込書をメールで送付いただいた後に、確認のため議会事務局までお電話をお願いいたします。（直通049-224-6067）
B26: ※川越市議会使用欄
B27: 受入可否 | V27: 確定日時 | AZ27: 相手先への連絡 | BP27: （ | BS27: 月 | BW27: 日 | BY27: ）
B28: 担当 | L28: 説明 | BK28: 挨拶
L29: 執行部 | S29: 部局 | BK29: 依頼
S30: 担当者 | BK30: 挨拶者 | CA30: FALSE | CB30: FALSE
S31: 可否 | BK31: その他 | BO31: ( | BZ31: ) | CA31: FALSE
B32: 会場予約 | AX32: その他 | BC32: ( | BZ32: ) | CA32: FALSE | CB32: FALSE | CC32: FALSE
B33: 機器予約 | W33: 予約機器
B34: 備考

Sheet 伺い
A1: 行政視察受入れ伺い
A6: 下記のとおり受け入れてよろしいですか。
M7: 確定
A8: 日時 | D8: =IF(申込書!AC27="","",申込書!AC27)
A9: 県名・議会名 | D9: =IF(申込書!L6="","",申込書!L6) | G9: =IF(申込書!AT6="","",申込書!AT6) | K9: 議会
A10: 来訪者 | D10: 委員会名 | E10: =IF(申込書!L7="","",申込書!L7)
D11: その他
D12: 内訳 | E12: 議員 | F12: =IF(申込書!W8="","",申込書!W8) | I12: 理事者 | J12: =IF(申込書!AV8="","",申込書!AV8) | K12: 随行 | L12: =IF(申込書!AJ8="","",申込書!AJ8) | M12: 合計 | N12: =SUM(F12:L12) -> 0
A13: 連絡先 | D13: 担当者 | E13: =IF(申込書!P9="","",申込書!P9) | I13: =IF(申込書!AR9="","",申込書!AR9) | K13: =IF(申込書!BD9="","",申込書!BD9)
D14: 電話番号 | E14: =IF(申込書!P10="","",申込書!P10) | H14: 内線 | I14: =IF(申込書!AS10="","",申込書!AS10) | K14: メール | L14: =IF(申込書!BD10="","",申込書!BD10)
A15: 視察事項 | D15: 件名（内容） | K15: 対応課
D16: =IF(申込書!T14="","",申込書!T14) | K16: =IF(申込書!X29="","",申込書!X29)
D17: =IF(申込書!L16="","",申込書!L16)
A19: 現地案内
A20: 宿泊 | F20: （宿泊先）
A21: 手配等 | D21: 会場 | F21: =IF(申込書!L32="","",申込書!L32) | J21: =IF(申込書!BD32="","",申込書!BD32)
D22: １階案内 | I22: マイクロバス
D23: プロジェクター等 | I23: 秘書室提出
D24: 担当課 | I24: 庶務課
D25: あいさつ | F25: =IF(申込書!BP30="","",申込書!BP30) | J25: =IF(申込書!BP31="","",申込書!BP31)
D26: その他 特記事項
A27: 視察当日のスケジュール | B27: № | C27: 時 間 | E27: 内 容 | J27: 担当課等 | M27: 備 考
B28: 1 | C28: ～
B29: 2 | C29: ～
B30: 3 | C30: ～
B31: 4 | C31: ～
B32: 5 | C32: ～
B33: 6 | C33: ～
B34: 7 | C34: ～
B35: 8 | C35: ～
B36: 8
B37: 9 | CB37: TRUE
B38: 10 | CA38: TRUE
A39: 受付日： | C39: =IF(申込書!BQ27="","",申込書!BQ27) | D39: 月 | E39: =IF(申込書!BU27="","",申込書!BU27) | F39: 日
A40: 議会事務局議事課調査担当：
A42: 来訪者・その他
D43: 会派
D44: 議員
A46: 来訪者・内訳
D47: （議長含む）
D48: （副議長含む）
D49: （議長、副議長含む）
A51: 現地案内
D52: 有
D53: 無
A55: 宿泊
D56: 前泊
D57: 当日
D58: 無
A60: 宿泊先
D61: 第一ホテル
D62: プリンスホテル
D63: 東武ホテル
D64: ホテル三光
D65: デイリーホテル
D66: スーパーホテル
A68: 手配等・会場
D69: 第１委員会室
D70: 第２委員会室
D71: 第３委員会室
D72: 第４委員会室
D73: 第５委員会室
D74: 議会応接室
A76: 手配等・送迎車
D77: マイクロバス
D78: ハイエース
D79: ステップワゴン
D80: 公用車
D81: 無
A83: 手配等・ﾌﾟﾛｼﾞｪｸﾀｰ
D84: 有
D85: 手配済
D86: 無
A88: 手配等・１階案内
D89: 有
D90: 手配済
D91: 無
A94: 手配等・FB・Twitter掲載
D95: 可
D96: 不可
A98: ｽｹｼﾞｭｰﾙ・内容
D99: 未定
D100: 川越駅→市役所
D101: 川越市駅→市役所
D102: 本川越駅→市役所
D103: 議長あいさつ
D104: 副議長あいさつ
D105: 局長あいさつ
D106: 副局長あいさつ
D107: 視察事項説明・質疑
D108: 現地視察
D109: 市役所→川越駅
D110: 市役所→川越市駅
... D113: 庁舎玄関お見送り
A115: 担当者
D116: 竹ノ谷(内線4560)
D117: 佐藤(内線4561)
D118: 田村(内線3622)
A120: 手配等・担当課・庶務課
D121: 依頼済
...
