Workbook

Sheet 集計
B2: 視覚 | C2: =COUNTA(視覚!$A$4:$A$10011) -> 22
B3: 聴覚 | C3: =COUNTA(聴覚!$A$4:$A$10018) -> 33
B4: 肢体不自由 | C4: =COUNTA(肢体不自由!$A$4:$A$10033) -> 91
B5: 心臓 | C5: =COUNTA(心臓!$A$4:$A$10000) -> 18
B6: じん臓 | C6: =COUNTA(じん臓!$A$4:$A$10006) -> 23
B7: 呼吸器 | C7: =COUNTA(呼吸器!$A$5:$A$9996) -> 18
B8: ぼう直 | C8: =COUNTA(ぼう直!$A$4:$A$10015) -> 47
B9: 小腸 | C9: =COUNTA(小腸!$A$4:$A$10006) -> 15
B10: 免疫 | C10: =COUNTA(免疫!$A$4:$A$9998) -> 3
B11: 肝臓 | C11: =COUNTA(肝臓!$A$4:$A$10002) -> 12
B12: のべ | C12: =SUM(C2:C11) -> 282 | E12: ※行定病院分２名（延３）削除済み、中村外科,川越西口診療所,池袋病院（じん臓）,さくら小江戸（聴覚）見え消し、中嶋内科は医師死亡のため見え消し。
E13: 内訳：平、音、言、そ（１名）、肢体（１名）、心臓（１名）、じん臓（１名）ぼう直（２名）、肝臓（１名）

Sheet 視覚
A1: 15条指定医師名簿【視覚障害】
A2: ※最新の状況は、必ず各医療機関へお尋ねください。 | E2: 医療機関名五十音順、氏名順不同、敬称略
A3: 医療機関の名称 | B3: 医療機関の所在地 | C3: 電話番号 | D3: 担当診療科目 | E3: 指定医師の氏名 | F3: 備考
A4: 医療法人七彩 川越西眼科 | B4: 川越市的場新町８－５ | C4: 049-239-0777 | D4: 眼科 | E4: 本間 理加
A5: 医療法人七彩 川越西眼科 | B5: 川越市的場新町８－５ | C5: 049-239-0777 | D5: 眼科 | E5: 澤口 真智子
A6: 医療法人七彩 川越西眼科 | B6: 川越市的場新町８－５ | C6: 049-239-0777 | D6: 眼科 | E6: 清水 真理
A7: 医療法人七彩 川越西眼科 | B7: 川越市的場新町８－５ | C7: 049-239-0777 | D7: 眼科 | E7: 宮崎 理恵
A8: 医療法人七彩 川越西眼科 | B8: 川越市的場新町８－５ | C8: 049-239-0777 | D8: 眼科 | E8: 大田 友理
A9: 医療法人七彩 川越西眼科 | B9: 川越市的場新町８－５ | C9: 049-239-0777 | D9: 眼科 | E9: 笠松 桃子
A10: 医療法人七彩 川越西眼科 | B10: 川越市的場新町８－５ | C10: 049-239-0777 | D10: 眼科 | E10: 村上 結香
A11: 医療法人 霞ヶ関眼科クリニック | B11: 川越市霞ヶ関東２－１１－１３ | C11: 049-232-2119 | D11: 眼科 | E11: 山田 幸永
A12: 岸眼科 | B12: 川越市石原町１－１０－３ | C12: 049-223-1900 | D12: 眼科 | E12: 岸 桂
A13: くりばやし眼科 | B13: 川越市旭町１－１－２３ | C13: 049-256-7601 | D13: 眼科 | E13: 栗林 幸平
A14: こうづま眼科クリニック | B14: 川越市岸町３－１３－３ | C14: 0120-49147 | D14: 眼科 | E14: 中村 修
A15: 小江戸眼科内科 白内障・緑内障・糖尿病クリニック | B15: 川越市脇田本町15-12 | C15: 049-247-8777 | D15: 眼科 | E15: 水川 淳
... A25: 川越ルミタス眼科 白内障と近視のクリニック | B25: 川越市脇田町105 アトレマルヒロ1階 | C25: 049-223-5711 | D25: 眼科 | E25: 﨑元 丹

Sheet 聴覚
A1: 15条指定医師名簿【聴覚、平衡、音声・言語、そしゃく機能障害】
A2: ※最新の状況は、必ず各医療機関へお尋ねください。 | E2: 医療機関名五十音順、氏名順不同、敬称略
A3: 医療機関の名称 | B3: 医療機関の所在地 | C3: 電話番号 | D3: 担当診療科目 | E3: 指定医師の氏名 | F3: 備考
A4: 伊佐沼クリニック耳鼻咽喉科 | B4: 川越市古谷上２７－１ | C4: 049-235-0100 | D4: 耳鼻咽喉科 | E4: 時田 信博
A5: おおひら耳鼻咽喉科 | B5: 川越市大字並木２４６－１リヴォーレ中田１Ｆ1号室 | C5: 049-236-0323 | D5: 耳鼻咽喉科 | E5: 大平 泰行
A6: 霞ヶ関南病院 | B6: 川越市安比奈新田２８３－１ | C6: 049-232-1313 | D6: リハビリテーション科 | E6: 伊藤 雅美 | F6: 音声・言語、そしゃく機能のみ
A7: 霞ヶ関南病院 | B7: 川越市安比奈新田２８３－１ | C7: 049-232-1313 | D7: リハビリテーション科 | E7: 齊藤 克子 | F7: 音声・言語、そしゃく機能のみ
A8: 霞ヶ関南病院 | B8: 川越市安比奈新田２８３－１ | C8: 049-232-1313 | D8: 内科・リハビリテーション科 | E8: 長川 史 | F8: 音声・言語、そしゃく機能のみ
A9: 霞ヶ関南病院 | B9: 川越市安比奈新田２８３－１ | C9: 049-232-1313 | D9: 脳神経外科 | E9: 海津 啓之 | F9: 音声・言語機能のみ
A10: 霞ヶ関南病院 | B10: 川越市安比奈新田２８３－１ | C10: 049-232-1313 | D10: リハビリテーション科 | E10: 原 元彦 | F10: 音声・言語、そしゃく機能のみ
A11: 川越リハビリテーション病院 | B11: 川越市中台元町１－９－１２ | C11: 049-245-3555 | D11: 脳神経外科 | E11: 町田 隆一 | F11: 音声・言語、そしゃく機能のみ
A12: 片岡耳鼻咽喉科医院 | B12: 川越市的場北１－３－９ | C12: 049-231-3941 | D12: 耳鼻咽喉科 | E12: 片岡 紀男
A13: 片岡耳鼻咽喉科医院 | B13: 川越市的場北１－３－９ | C13: 049-231-3941 | D13: 耳鼻咽喉科 | E13: 片岡 丈志 | F13: 聴覚のみ
A14: 加藤耳鼻咽喉科医院 | B14: 川越市笠幡３０２５－１１ | C14: 049-234-6177 | D14: 耳鼻咽喉科 | E14: 加藤 雄一
A15: 川越耳科学クリニック | B15: 川越市脇田町１０３ 川越マイン２階 | C15: 049-226-3387 | D15: 耳鼻咽喉科、リハビリテーション科 | E15: 坂田 英明
A16: 川越耳科学クリニック | B16: 川越市脇田町１０３ 川越マイン２階 | C16: 049-226-3387 | D16: 耳鼻咽喉科 | E16: 岸根 有美 | F16: 聴覚、平衡のみ
A17: 川越耳鼻咽喉科医院 | B17: 川越市脇田本町１１－２ Ｍ・ＴＥＣビル６階 | C17: 049-243-8600 | D17: 耳鼻咽喉科 | E17: 清水 浩昭
A18: 埼玉医科大学総合医療センター | B18: 川越市鴨田１９８１ | C18: 049-228-3400 | D18: 耳鼻咽喉科 | E18: 菊地 茂
A19: 埼玉医科大学総合医療センター | B19: 川越市鴨田１９８１ | C19: 049-228-3400 | D19: 耳鼻咽喉科 | E19: 大木 雅文
A20: 埼玉医科大学総合医療センター | B20: 川越市鴨田１９８１ | C20: 049-228-3595 | D20: 耳鼻咽喉科 | E20: 仲山 佑果
A21: 埼玉医科大学総合医療センター | B21: 川越市鴨田１９８１ | C21: 049-228-3400 | D21: リハビリテーション科 | E21: 大林 茂 | F21: 音声・言語・そしゃく機能のみ
A22: 埼玉医科大学総合医療センター | B22: 川越市鴨田１９８１ | C22: 049-228-3400 | D22: 耳鼻咽喉科 | E22: 齊藤 真紀 | F22: 聴覚のみ
A23: 埼玉医科大学総合医療センター | B23: 川越市鴨田１９８１ | C23: 049-228-3400 | D23: 耳鼻咽喉科 | E23: 多賀谷 亮甫
A24: 埼玉医科大学総合医療センター | B24: 川越市鴨田１９８１ | C24: 049-228-3400 | D24: 耳鼻咽喉科 | E24: 佐野 奈央 | F24: 聴覚のみ
A25: 埼玉医科大学総合医療センター | B25: 川越市鴨田１９８１ | C25: 049-228-3742 | D25: 耳鼻咽喉科 | E25: 安藤 喬明
A26: はつかり耳鼻咽喉科クリニック | B26: 川越市連雀町９－３ | C26: 049-227-3756 | D26: 耳鼻咽喉科・アレルギー科 | E26: 石岡 薫
A27: 本川越病院 | B27: 川越市中原町１－１２－１ | C27: 049-222-0533 | D27: 外科 | E27: 小林 中 | F27: そしゃく機能のみ
A28: 武蔵野総合病院 | B28: 川越市大字大袋新田９７７－９ | C28: 049-244-6340 | D28: 耳鼻咽喉科 | E28: 太田 陽子
A29: 武蔵野総合病院 | B29: 川越市大字大袋新田９７７－９ | C29: 049-244-6340 | D29: 脳神経外科 | E29: 藤澤 直顕 | F29: 音声・言語機能のみ
A30: 武蔵野総合病院 | B30: 川越市大字大袋新田９７７－９ | C30: 049-244-6340 | D30: リハビリテーション科・内科 | E30: 林田 仁至 | F30: 平衡、音声・言語、そしゃくのみ
A31: 森田耳鼻咽喉科医院 | B31: 川越市新富町２－２１－８ | C31: 049-222-1535 | D31: 耳鼻咽喉科 | E31: 森田 重雄
A32: 森田耳鼻咽喉科医院 | B32: 川越市新富町２－２１－８ | C32: 049-222-1535 | D32: 耳鼻咽喉科 | E32: 森田 隆匡
A33: 森田耳鼻咽喉科医院 | B33: 川越市新富町２－２１－８ | C33: 049-222-1535 | D33: 耳鼻咽喉科 | E33: 森田 優登
A34: けんゆうクリニック | B34: 川越市小室２８３－１ | C34: 050-5536-6498 | D34: 耳鼻咽喉科 | E34: 粕谷 健人
A35: 川越山田耳鼻科 | B35: 川越市山田２０１５－１３ | C35: 049-298-6233 | D35: 耳鼻咽喉科 | E35: 杉木 司
A36: すなおなクリニック | B36: 川越市仙波町１－１２－２０ | C36: 049-298-3359 | D36: 耳鼻咽喉科 | E36: 田中 是

Sheet 肢体不自由
A1: 15条指定医師名簿【肢体不自由】
A2: ※最新の状況は、必ず各医療機関へお尋ねください。 | E2: 医療機関名五十音順、氏名順不同、敬称略
A3: 医療機関の名称 | B3: 医療機関の所在地 | C3: 電話番号 | D3: 担当診療科目 | E3: 指定医師の氏名 | F3: 備考
A4: あかねクリニック | B4: 川越市的場1310-5 的場駅前タウンA棟101号室 | C4: 049-227-3941 | D4: 内科・小児科 | E4: 西澤 賢治
A5: 浅岡クリニック | B5: 川越市脇田本町10-17 | C5: 049-248-0047 | D5: 内科・リウマチ科・アレルギー科 | E5: 浅岡 俊之
A6: 池袋病院 | B6: 川越市笠幡３７２４－６ | C6: 049-231-1552 | D6: 整形外科 | E6: 岡部 眞弓
A7: 池袋病院 | B7: 川越市笠幡３７２４－６ | C7: 049-231-1552 | D7: 脳神経外科 | E7: 平川 亘
A8: 池袋病院 | B8: 川越市笠幡３７２４－６ | C8: 049-231-1552 | D8: 整形外科 | E8: 野本 智永
A9: 帯津三敬病院 | B9: 川越市大中居５４５ | C9: 049-235-1981 | D9: 整形外科 | E9: 帯津 良一
A10: 帯津三敬病院 | B10: 川越市大中居５４５ | C10: 049-235-1981 | D10: 脳神経外科 | E10: 増田 俊和
A11: 医療法人 和敬 オレンジ在宅クリニック | B11: 川越市新宿町１－４－１１ 間仁田ビル１F | C11: 049-293-6975 | D11: リハビリテーション科 | E11: 下松 智哉
A12: 笠幡病院 | B12: 川越市笠幡４９５５－１ | C12: 049-232-1231 | D12: 内科 | E12: 福留 健之
A13: 霞ケ関整形外科 | B13: 川越市的場2218-4-201 | C13: 049-234-3981 | D13: 整形外科 | E13: 斎藤 安規
A14: 霞ヶ関南病院 | B14: 川越市安比奈新田２８３－１ | C14: 049-232-1313 | D14: リハビリテーション科 | E14: 伊藤 雅美
A15: 霞ヶ関南病院 | B15: 川越市安比奈新田２８３－１ | C15: 049-232-1313 | D15: リハビリテーション科 | E15: 齊藤 克子
... A94: 医療法人社団スマイル＆ファイン いしがみ整形外科クリニック | B94: 川越市連雀町１９－３ | C94: 049-222-5321 | D94: 整形外科 | E94: 石神 等

Sheet 心臓
A1: 15条指定医師名簿【心臓機能障害】
A2: ※最新の状況は、必ず各医療機関へお尋ねください。 | E2: 医療機関名五十音順、氏名順不同、敬称略
A3: 医療機関の名称 | B3: 医療機関の所在地 | C3: 電話番号 | D3: 担当診療科目 | E3: 指定医師の氏名 | F3: 備考
A4: 井上医院 | B4: 川越市元町２－８－８ | C4: 049-222-0326 | D4: 外科 | E4: 井上 誠一郎
A5: かわごえ循環器・内科クリニック | B5: 川越市的場北１－１５－１０ | C5: 049-233-0777 | D5: 内科 | E5: 大井川 哲也
A6: きりむら内科医院 | B6: 川越市諏訪町１０－１２ | C6: 049-245-1070 | D6: 内科、循環器内科 | E6: 桐村 正人
A7: 康正会病院 | B7: 川越市山田３７５－１ | C7: 049-224-2711 | D7: 内科 | E7: 中村 徹
A8: 埼玉医科大学総合医療センター | B8: 川越市鴨田１９８１ | C8: 049-228-3400 | D8: 内科 | E8: 吉本 信雄
A9: 埼玉医科大学総合医療センター | B9: 川越市鴨田１９８１ | C9: 049-228-3400 | D9: 循環器科 | E9: 伊藤 博之
A10: 埼玉医科大学総合医療センター | B10: 川越市鴨田１９８１ | C10: 049-228-3400 | D10: 心臓内科 | E10: 神山 哲男
A11: 埼玉医科大学総合医療センター | B11: 川越市鴨田１９８１ | C11: 049-228-3400 | D11: 小児科、小児循環器科 | E11: 増谷 聡
A12: 埼玉医科大学総合医療センター | B12: 川越市鴨田１９８１ | C12: 049-228-3400 | D12: 心臓血管外科、小児心臓外科 | E12: 宇野 吉雅
A13: 埼玉医科大学総合医療センター | B13: 川越市鴨田１９８１ | C13: 049-228-3400 | D13: 心臓血管外科 | E13: 徳永 千穂
A14: 埼玉医科大学総合医療センター | B14: 川越市鴨田１９８１ | C14: 049-228-3400 | D14: 心臓内科 | E14: 小宮山 英徳
A15: 埼玉医科大学総合医療センター | B15: 川越市鴨田１９８１ | C15: 049-228-3400 | D15: 心臓内科 | E15: 谷 昂大
... A21: 助さん在宅クリニック | B21: 川越市南大塚3-11-24 エポック旭野106 | C21: 049-257-6624 | D21: 内科・循環器科 | E21: 黒木 崇文

Sheet じん臓
A1: 15条指定医師名簿【じん臓機能障害】
A2: ※最新の状況は、必ず各医療機関へお尋ねください。 | E2: 医療機関名五十音順、氏名順不同、敬称略
A3: 医療機関の名称 | B3: 医療機関の所在地 | C3: 電話番号 | D3: 担当診療科目 | E3: 指定医師の氏名 | F3: 備考
A4: 池袋病院 | B4: 川越市笠幡３７２４－６ | C4: 049-231-1552 | D4: 内科 | E4: 日高 康雄
A5: 池袋病院 | B5: 川越市笠幡３７２４－６ | C5: 049-231-1552 | D5: 腎臓内科・人工透析内科 | E5: 戸田 美波
A6: 池袋病院 | B6: 川越市笠幡３７２４－６ | C6: 049-231-1552 | D6: 腎臓内科・人工透析内科 | E6: 牧野 耕和
A7: 帯津三敬病院 | B7: 川越市大中居５４５ | C7: 049-235-1981 | D7: 内科 | E7: 長瀬 光昌
A8: 川越駅前クリニック | B8: 川越市脇田本町16-23川越駅前ビル2Ｆ | C8: 049-241-0003 | D8: 人工透析内科 | E8: 宮川 八平
A9: 川越南腎クリニック | B9: 川越市新宿町3-5-8 | C9: 049-249-1010 | D9: 外科 | E9: 瀬尾 明彦
A10: 川鶴クリニック | B10: 川越市下広谷１１１３ | C10: 049-233-9133 | D10: 内科･循環器科･泌尿器科 | E10: 相原 吉雄
A11: 医療法人 康正会病院 | B11: 川越市山田３２０－１ | C11: 049-223-5711 | D11: 内科 | E11: 小原 一廣
A12: 康正会総合クリニック | B12: 川越市山田３７５－１ | C12: 049-224-2711 | D12: 内科 | E12: 富田 新
A13: 埼玉医科大学総合医療センター | B13: 川越市鴨田１９８１ | C13: 049-228-3400 | D13: 内科 | E13: 小川 智也
A14: 埼玉医科大学総合医療センター | B14: 川越市鴨田１９８１ | C14: 049-228-3400 | D14: 腎・高血圧内科 | E14: 清水 泰輔
A15: 埼玉医科大学総合医療センター | B15: 川越市鴨田１９８１ | C15: 049-228-3400 | D15: 腎臓内科 | E15: 髙橋 駿介
... A26: 南古谷クリニック | B26: 川越市並木６０６－１ | C26: 049-230-1313 | D26: 内科 | E26: 河野 里佳

Sheet 呼吸器
A1: 15条指定医師名簿【呼吸器機能障害】
A2: ※最新の状況は、必ず各医療機関へお尋ねください。 | E2: 医療機関名五十音順、氏名順不同、敬称略
A3: 医療機関の名称 | B3: 医療機関の所在地 | C3: 電話番号 | D3: 担当診療科目 | E3: 指定医師の氏名 | F3: 備考
A4: 医療法人 康正会病院 | B4: 川越市山田３２０－１ | C4: 049-223-5711 | D4: 呼吸器内科 | E4: 三上 友理子 | M4: =SUBSTITUTE(F4," ","") | N4: =SUBSTITUTE(G4," ","")
A5: 池袋病院 | B5: 川越市大字笠幡３７２４－６ | C5: 049-231-1552 | D5: 小児外科 | E5: 池袋 賢一 | M5: =SUBSTITUTE(F5," ","") | N5: =SUBSTITUTE(G5," ","")
A6: 池袋病院 | B6: 川越市大字笠幡３７２４－６ | C6: 049-231-1552 | D6: 内科 | E6: 日高 康雄
A7: かわごえファミリークリニック | B7: 川越市新宿町３－７－１５ | C7: 049-291-4976 | D7: 小児科、アレルギー科、救急科 | E7: 淺野 祥孝
A8: 埼玉医科大学総合医療センター | B8: 川越市鴨田１９８１ | C8: 049-228-3400 | D8: 呼吸器内科 | E8: 植松 和嗣 | M8: =SUBSTITUTE(F8," ","") | N8: =SUBSTITUTE(G8," ","")
A9: 埼玉医科大学総合医療センター | B9: 川越市鴨田１９８１ | C9: 049-228-3400 | D9: 小児科 | E9: 櫻井 淑男 | M9: =SUBSTITUTE(F9," ","") | N9: =SUBSTITUTE(G9," ","")
A10: 埼玉医科大学総合医療センター | B10: 川越市鴨田１９８１ | C10: 049-228-3400 | D10: 呼吸器外科 | E10: 福田 祐樹 | M10: =SUBSTITUTE(F10," ","") | N10: =SUBSTITUTE(G10," ","")
A11: 埼玉医科大学総合医療センター | B11: 川越市鴨田１９８１ | C11: 049-228-3400 | D11: 総合診療内科・感染症科 | E11: 岡 秀昭 | M11: =SUBSTITUTE(F11," ","") | N11: =SUBSTITUTE(G11," ","")
A12: 埼玉医科大学総合医療センター | B12: 川越市鴨田１９８１ | C12: 049-228-3400 | D12: 呼吸器内科 | E12: 森山 岳 | M12: =SUBSTITUTE(F12," ","") | N12: =SUBSTITUTE(G12," ","")
A13: 埼玉医科大学総合医療センター | B13: 川越市鴨田１９８１ | C13: 049-228-3400 | D13: 呼吸器内科 | E13: 小山 信之
A14: 埼玉医科大学総合医療センター | B14: 川越市鴨田１９８１ | C14: 049-228-3400 | D14: 呼吸器内科 | E14: 桑原 由樹
A15: 埼玉医科大学総合医療センター | B15: 川越市鴨田１９８１ | C15: 049-228-3411 | D15: 小児科 | E15: 是松 聖悟
A16: 埼玉医科大学総合医療センター | B16: 川越市鴨田１９８１ | C16: 049-228-3411 | D16: 小児科 | E16: 金井 雅代
A17: 埼玉医科大学総合医療センター | B17: 川越市鴨田１９８１ | C17: 049-228-3742 | D17: 呼吸器内科 | E17: 西村 博明
A18: トワーム小江戸病院 | B18: 川越市下老袋４９０－９ | C18: 049-222-8111 | D18: 内科 | E18: 村上 剛久 | M18: =SUBSTITUTE(F18," ","") | N18: =SUBSTITUTE(G18," ","")
A19: 野澤クリニック | B19: 川越市小ケ谷８１６－１ | C19: 049-227-6969 | D19: 内科・呼吸器科・循環器科・小児科 | E19: 野澤 誠 | M19: =SUBSTITUTE(F19," ","") | N19: =SUBSTITUTE(G19," ","")
A20: ひろせクリニック | B20: 川越市新富町２－４－３ 木村屋ビル３F | C20: 049-222-1199 | D20: 内科・循環器内科・消化器内科・乳腺外科・糖尿病内科・外科・肛門外科 | E20: 廣瀬 哲也 | M20: =SUBSTITUTE(F20," ","") | N20: =SUBSTITUTE(G20," ","")
A21: 武蔵野総合病院 | B21: 川越市大字大袋新田９７７－９ | C21: 049-244-6340 | D21: 内科 | E21: 本多 三男 | M21: =SUBSTITUTE(F21," ","") | N21: =SUBSTITUTE(G21," ","")
A22: 立医院 | B22: 川越市今成3-13-21 | C22: 049-223-0393 | D22: 呼吸器科 | E22: 立 漢長

Sheet ぼう直
A1: 15条指定医師名簿【ぼうこう・直腸機能障害】
A2: ※最新の状況は、必ず各医療機関へお尋ねください。 | E2: 医療機関名五十音順、氏名順不同、敬称略
A3: 医療機関の名称 | B3: 医療機関の所在地 | C3: 電話番号 | D3: 担当診療科目 | E3: 指定医師の氏名 | F3: 備考
A4: 池袋病院 | B4: 川越市大字笠幡３７２４－６ | C4: 049-231-1552 | D4: 小児外科 | E4: 池袋 賢一 | M4: =SUBSTITUTE(F4," ","") | N4: =SUBSTITUTE(G4," ","")
A5: 池袋病院 | B5: 川越市大字笠幡３７２４－６ | C5: 049-231-1552 | D5: 小児外科 | E5: 佐竹 亮介 | M5: =SUBSTITUTE(F5," ","") | N5: =SUBSTITUTE(G5," ","")
A6: 池袋病院 | B6: 川越市大字笠幡３７２４－６ | C6: 049-231-1552 | D6: 外科・消化器外科 | E6: 杉山 政則
A7: 井上医院 | B7: 川越市元町２－８－８ | C7: 049-222-0326 | D7: 外科 | E7: 井上 誠一郎 | M7: =SUBSTITUTE(F7," ","") | N7: =SUBSTITUTE(G7," ","")
A8: 猪熊外科胃腸科医院 | B8: 川越市新宿町５－４－１２ | C8: 049-242-6780 | D8: 外科 | E8: 猪熊 滋久 | M8: =SUBSTITUTE(F8," ","") | N8: =SUBSTITUTE(G8," ","")
A9: 帯津三敬病院 | B9: 川越市大中居５４５ | C9: 049-235-1981 | D9: 外科 | E9: 三橋 敏武 | M9: =SUBSTITUTE(F9," ","") | N9: =SUBSTITUTE(G9," ","")
A10: 川越胃腸センター・クリニック | B10: 川越市仙波町２－９－２ | C10: 049-225-6888 | D10: 外科 | E10: 増尾 光樹 | M10: =SUBSTITUTE(F10," ","") | N10: =SUBSTITUTE(G10," ","")
A11: 川越胃腸センター・クリニック | B11: 川越市仙波町２－９－２ | C11: 049-225-6888 | D11: 外科 | E11: 望月 智行 | M11: =SUBSTITUTE(F11," ","") | N11: =SUBSTITUTE(G11," ","")
A12: 川越ブレストクリニック | B12: 川越市脇田本町１－５ 川越ウエストビル５階 | C12: 049-265-5255 | D12: 外科、乳腺外科 | E12: 山田 博文 | M12: =SUBSTITUTE(F12," ","") | N12: =SUBSTITUTE(G12," ","")
A13: 熊谷クリニック | B13: 川越市旭町２－８－３ | C13: 049-241-6677 | D13: 泌尿器科 | E13: 熊谷 振作 | M13: =SUBSTITUTE(F13," ","") | N13: =SUBSTITUTE(G13," ","")
A14: 康正会病院 | B14: 川越市山田３２０－１ | C14: 049-223-5711 | D14: 外科 | E14: 郡司 良夫 | M14: =SUBSTITUTE(F14," ","") | N14: =SUBSTITUTE(G14," ","")
A15: 康正会病院 | B15: 川越市山田３２０－１ | C15: 049-223-5711 | D15: 外科 | E15: 田中 彰 | M15: =SUBSTITUTE(F15," ","") | N15: =SUBSTITUTE(G15," ","")
A16: 埼玉医科大学総合医療センター | B16: 川越市鴨田１９８１ | C16: 049-228-3400 | D16: 外科 | E16: 石田 秀行 | M16: =SUBSTITUTE(F16," ","") | N16: =SUBSTITUTE(G16," ","")
A17: 埼玉医科大学総合医療センター | B17: 川越市鴨田１９８１ | C17: 049-228-3411 | D17: 肝胆膵外科・小児外科 | E17: 小髙 明雄 | M17: =SUBSTITUTE(F17," ","") | N17: =SUBSTITUTE(G17," ","")
A18: 埼玉医科大学総合医療センター | B18: 川越市鴨田１９８１ | C18: 049-228-3400 | D18: 外科 | E18: 中田 博 | M18: =SUBSTITUTE(F18," ","") | N18: =SUBSTITUTE(G18," ","")
... A20: 埼玉医科大学総合医療センター | B20: 川越市鴨田１９８１ | C20: 049-228-3400 | D20: 泌尿器科 | E20: 矢野 晶大 | M20: =SUBSTITUTE(F20," ","") | N20: =SUBSTITUTE(G20," ","")
A21: 埼玉医科大学総合医療センター | B21: 川越市鴨田１９８１ | C21: 049-228-3400 | D21: 泌尿器科 | E21: 岡田 洋平
A22: 埼玉医科大学総合医療センター | B22: 川越市鴨田１９８１ | C22: 049-228-3400 | D22: 消化管・一般外科 | E22: 天野 邦彦
A23: 埼玉医科大学総合医療センター | B23: 川越市鴨田１９８１ | C23: 049-228-3400 | D23: ゲノム診療科、消化管・一般外科 | E23: 母里 淑子 | M23: =SUBSTITUTE(F23," ","") | N23: =SUBSTITUTE(G23," ","")
A24: 埼玉医科大学総合医療センター | B24: 川越市鴨田１９８１ | C24: 049-228-3619 | D24: 外科 | E24: 松山 貴俊
A25: 埼玉医科大学総合医療センター | B25: 川越市鴨田１９８１ | C25: 049-228-3400 | D25: 高度救命救急センター | E25: 松田 真輝
A26: 埼玉医科大学総合医療センター | B26: 川越市鴨田１９８１ | C26: 049-228-3400 | D26: 泌尿器科 | E26: 永本 将一
A27: 埼玉医科大学総合医療センター | B27: 川越市鴨田１９８１ | C27: 049-228-3400 | D27: 泌尿器科 | E27: 北山 沙知
A28: 埼玉医科大学総合医療センター | B28: 川越市鴨田１９８１ | C28: 049-228-3400 | D28: 消化器外科 | E28: 髙岡 亜弓
A29: 埼玉医科大学総合医療センター | B29: 川越市鴨田１９８１ | C29: 049-228-3400 | D29: 小児外科 | E29: 井上 成一朗
A30: 赤心クリニック | B30: 川越市脇田本町２５－１８ 脇田本町ビル４階 | C30: 049-242-8601 | D30: 泌尿器科 | E30: 内島 豊 | M30: =SUBSTITUTE(F30," ","") | N30: =SUBSTITUTE(G30," ","")
A31: 赤心堂病院 | B31: 川越市脇田本町２５－１９ | C31: 049-242-1181 | D31: 泌尿器科 | E31: 遠藤 克則 | M31: =SUBSTITUTE(F31," ","") | N31: =SUBSTITUTE(G31," ","")
A32: 赤心堂病院 | B32: 川越市脇田本町２５－１９ | C32: 049-242-1181 | D32: 泌尿器科 | E32: 永松 秀樹 | M32: =SUBSTITUTE(F32," ","") | N32: =SUBSTITUTE(G32," ","")
A33: 赤心堂病院 | B33: 川越市脇田本町２５－１９ | C33: 049-242-1181 | D33: 外科（消化器外科） | E33: 矢島 沙織
A34: 赤心堂病院 | B34: 川越市脇田本町２５－１９ | C34: 049-242-1181 | D34: 外科 | E34: 河合 雅也
A35: 田中医院 | B35: 川越市宮下町１－２－１２ | C35: 049-222-0002 | D35: 内科・外科 | E35: 田中 知博 | M35: =SUBSTITUTE(F35," ","") | N35: =SUBSTITUTE(G35," ","")
A36: ひろせクリニック | B36: 川越市新富町２－４－３ 木村屋ビル３F | C36: 049-222-1199 | D36: 内科・循環器内科・消化器内科・乳腺外科・糖尿病内科・外科・肛門外科 | E36: 廣瀬 哲也 | M36: =SUBSTITUTE(F36," ","") | N36: =SUBSTITUTE(G36," ","")
A37: 本川越病院 | B37: 川越市中原町１－１２－１ | C37: 049-222-0533 | D37: 外科 | E37: 小林 中 | M37: =SUBSTITUTE(F37," ","") | N37: =SUBSTITUTE(G37," ","")
A38: 三井病院 | B38: 川越市連雀町１９－３ | C38: 049-222-5321 | D38: 外科 | E38: 秦 怜志 | M38: =SUBSTITUTE(F38," ","") | N38: =SUBSTITUTE(G38," ","")
A39: 三井病院 | B39: 川越市連雀町１９－３ | C39: 049-222-5321 | D39: 外科 | E39: 朴 英智 | M39: =SUBSTITUTE(F39," ","") | N39: =SUBSTITUTE(G39," ","")
A40: 三井病院 | B40: 川越市連雀町１９－３ | C40: 049-222-5321 | D40: 外科 | E40: 八木 健之 | M40: =SUBSTITUTE(F40," ","") | N40: =SUBSTITUTE(G40," ","")
A41: 三井病院 | B41: 川越市連雀町１９－３ | C41: 049-222-5321 | D41: 消化器外科 | E41: 得丸 重夫
...

Sheet 小腸
A1: 15条指定医師名簿【小腸機能障害】
A2: ※最新の状況は、必ず各医療機関へお尋ねください。 | E2: 医療機関名五十音順、氏名順不同、敬称略
A3: 医療機関の名称 | B3: 医療機関の所在地 | C3: 電話番号 | D3: 担当診療科目 | E3: 指定医師の氏名 | F3: 備考
A4: 池袋病院 | B4: 川越市笠幡３７２４－６ | C4: 049-231-1552 | D4: 小児外科 | E4: 佐竹 亮介 | N4: =SUBSTITUTE(G4," ","")
A5: 池袋病院 | B5: 川越市大字笠幡３７２４－６ | C5: 049-231-1552 | D5: 外科・消化器外科 | E5: 杉山 政則
A6: 川越胃腸 センター・クリニック | B6: 川越市仙波町２－９－２ | C6: 049-225-6888 | D6: 外科 | E6: 増尾 光樹 | N6: =SUBSTITUTE(G6," ","")
A7: 川越駅前胃腸・肛門クリニック | B7: 川越市脇田町１０３ 川越マイン・メディカルセンター川越２階 | C7: 049-227-8686 | D7: 内視鏡・胃腸内科、肛門外科、外科 | E7: 細沼 知則 | N7: =SUBSTITUTE(G7," ","")
A8: 川越ブレストクリニック | B8: 川越市脇田本町１－５ 川越ウエストビル５階 | C8: 049-265-5255 | D8: 外科、乳腺外科 | E8: 山田 博文
A9: 埼玉医科大学総合医療センター | B9: 川越市鴨田１９８１ | C9: 049-228-3400 | D9: 外科 | E9: 石橋 敬一郎
A10: 埼玉医科大学総合医療センター | B10: 川越市鴨田１９８１ | C10: 049-228-3400 | D10: ゲノム診療科、消化管・一般外科 | E10: 母里 淑子
A11: 埼玉医科大学総合医療センター | B11: 川越市鴨田１９８１ | C11: 049-228-3400 | D11: 小児外科 | E11: 小髙 明雄
A12: 埼玉医科大学総合医療センター | B12: 川越市鴨田１９８１ | C12: 049-228-3400 | D12: 外科 | E12: 松山 貴俊
A13: 埼玉医科大学総合医療センター | B13: 川越市鴨田１９８１ | C13: 049-228-3400 | D13: 小児外科 | E13: 井上 成一朗
A14: 赤心堂病院 | B14: 川越市脇田本町２５－１９ | C14: 049-242-1181 | D14: 外科 | E14: 河合 雅也
A15: 田口医院 | B15: 川越市元町２－４－７ | C15: 049-222-1972 | D15: 内科 | E15: 田口 夕美子
A16: ひろせクリニック | B16: 川越市新富町２－４－３ 木村屋ビル３F | C16: 049-222-1199 | D16: 内科・循環器内科・消化器内科・乳腺外科・糖尿病内科・外科・肛門外科 | E16: 廣瀬 哲也
A17: 三井病院 | B17: 川越市連雀町１９－３ | C17: 049-222-5321 | D17: 外科 | E17: 朴 英智 | N17: =SUBSTITUTE(G17," ","")
A18: 帯津三敬病院 | B18: 川越市大中居５４５ | C18: 049-235-1981 | D18: 外科 | E18: 三橋 敏武 | N18: =SUBSTITUTE(G18," ","")

Sheet 免疫
A1: 15条指定医師名簿【免疫機能障害】
A2: ※最新の状況は、必ず各医療機関へお尋ねください。 | E2: 医療機関名五十音順、氏名順不同、敬称略
A3: 医療機関の名称 | B3: 医療機関の所在地 | C3: 電話番号 | D3: 担当診療科目 | E3: 指定医師の氏名 | F3: 備考
A4: 埼玉医科大学総合医療センター | B4: 川越市鴨田１９８１ | C4: 049-228-3400 | D4: 内科 | E4: 天野 宏一
A5: 埼玉医科大学総合医療センター | B5: 川越市鴨田１９８１ | C5: 049-228-3400 | D5: 総合診療内科・感染症科 | E5: 岡 秀昭
A6: 埼玉医科大学総合医療センター | B6: 川越市鴨田１９８１ | C6: 049-228-3400 | D6: 感染症科・感染制御科 | E6: 塚田 訓久

Sheet 肝臓
A1: 15条指定医師名簿【肝臓機能障害】
A2: ※最新の状況は、必ず各医療機関へお尋ねください。 | E2: 医療機関名五十音順、氏名順不同、敬称略
A3: 医療機関の名称 | B3: 医療機関の所在地 | C3: 電話番号 | D3: 担当診療科目 | E3: 指定医師の氏名 | F3: 備考
A4: 池袋病院 | B4: 川越市大字笠幡３７２４－６ | C4: 049-231-1552 | D4: 外科・消化器外科 | E4: 杉山 政則
A5: 川越消化器クリニック | B5: 川越市脇田本町8-1U_PLACE6階 | C5: 049-293-1180 | D5: 消化器内科 | E5: 藤野 幸夫
A6: 川越駅前胃腸・肛門クリニック | B6: 川越市脇田町１０３ 川越マイン・メディカルセンター川越２階 | C6: 049-227-8686 | D6: 内視鏡・胃腸内科、肛門外科、外科 | E6: 細沼 知則
A7: 康正会病院 | B7: 川越市山田３２０－１ | C7: 049-223-5711 | D7: 外科 消化器科 | E7: 郡司 良夫
A8: 埼玉医科大学総合医療センター | B8: 川越市鴨田１９８１ | C8: 049-228-3400 | D8: 肝胆膵外科・小児外科 | E8: 浦橋 泰然
A9: 埼玉医科大学総合医療センター | B9: 川越市鴨田１９８１ | C9: 049-228-3400 | D9: 消化器・肝臓内科 | E9: 川村 祐介
A10: 広沢医院 | B10: 川越市新富町１－６－３ | C10: 049-222-0962 | D10: 内科 | E10: 廣澤 光昭
A11: ひろせクリニック | B11: 川越市新富町２－４－３ 木村屋ビル３F | C11: 049-222-1199 | D11: 内科・循環器内科・消化器内科・乳腺外科・糖尿病内科・外科・肛門外科 | E11: 廣瀬 哲也
A12: 三井病院 | B12: 川越市連雀町１９－３ | C12: 049-222-5321 | D12: 内科 | E12: 梁 京賢
A13: 南古谷病院 | B13: 川越市久下戸１１０ | C13: 049-235-7777 | D13: 内科、内視鏡科 | E13: 高松 徹
A14: 武蔵野総合病院 | B14: 川越市大袋新田９７７－９ | C14: 049-244-6340 | D14: 外科 | E14: 富塚 龍也
A15: 武蔵野総合病院 | B15: 川越市大袋新田９７７－９ | C15: 049-244-6340 | D15: 外科 | E15: 根岸 七雄 | N15: =SUBSTITUTE(G15," ","")
